BEGIN:VCALENDAR
VERSION:2.0
PRODID:-//Tukios.com/
BEGIN:VEVENT
UID:228413c3-98e2-4a70-b14a-1d3dbc0a1c16@www.martenswarman.ca
DTSTAMP:20260421T044306Z
DTSTART:20260502T190000Z
DTEND:20260502T200000Z
SUMMARY:Celebration of Life
DESCRIPTION:
URL:https://www.martenswarman.ca/obituaries/ross-hoult
LOCATION:Circle Drive Alliance Church 3035 Preston Ave  Saskatoon SK S0K
GEO:52.0873082;-106.6198062
END:VEVENT
END:VCALENDAR