BEGIN:VCALENDAR
VERSION:2.0
PRODID:-//Tukios.com/
BEGIN:VEVENT
UID:2b80e653-337d-4b9b-95a3-3f3434e313b9@www.martenswarman.ca
DTSTAMP:20260421T235053Z
DTSTART:20260424T200000Z
DTEND:20260424T210000Z
SUMMARY:Memorial Gathering
DESCRIPTION:
URL:https://www.martenswarman.ca/obituaries/floyd-pashovitz
LOCATION:Cherished Memories Funeral Home 591 Centennial Drive North  
	Martensville SK S0K 2T0
GEO:52.2991826;-106.6697062
END:VEVENT
END:VCALENDAR