BEGIN:VCALENDAR
VERSION:2.0
PRODID:-//Tukios.com/
BEGIN:VEVENT
UID:486e3e0c-df14-4fa2-bff7-74af07a61cb7@www.martenswarman.ca
DTSTAMP:20260421T223655Z
DTSTART:20260425T190000Z
DTEND:20260425T200000Z
SUMMARY:Celebration of Life
DESCRIPTION:
URL:https://www.martenswarman.ca/obituaries/etalka-teak-wright
LOCATION:Mount Royal United Church 521 Vancouver Avenue North  Saskatoon 
	SK S7L 4J8
GEO:52.1366409;-106.7136571
END:VEVENT
END:VCALENDAR